Workbook

Sheet INFO
C1: Amortisatsioon | F1: Hooldus ja remont %
A2: Pikaajaline invest | C2: 30 | D2: aastat | F2: 0.01
A3: Keskmise ajaga invest | C3: 15 | D3: aastat | F3: 0.02
A4: Lühiajaline invest | C4: 10 | D4: aastat | F4: 0.03
A6: Kindlustus | C6: 0.002
A8: Finantseering | C8: 0.5 | D8: =CONCATENATE(C8*100," % laen ","/ ",(1-C8)*100," % omafinatseering") -> 50 % laen / 50 % omafinatseering
A9: Intress | C9: 0.03
D15: 800 | F15: 14000
F16: =+F15*D15 -> 11200000
B20: 26000
B22: 14000
B24: =+B22*B20 -> 364000000

Sheet HOIDLAD
A3: Kood | B3: FL 008 | D3: FL 009 | E3: FL 019 | G3: FL 088 | H3: FL 098
A4: Läbimõõt | B4: 18 | D4: 33 | E4: 33 | G4: 34.5 | H4: 34.5
A5: Kõrgus | B5: 5 | D5: 6 | E5: 6 | G5: 6 | H5: 6
A6: Maht | B6: 3020 | D6: 5050 | E6: 5050 | G6: 5515 | H6: 5515
A8: Liik | B8: Element | D8: Element | E8: Valu | G8: Valu | H8: Valu
A10: Katus | B10: Ei | D10: Ei | E10: Jah | G10: Ei | H10: Jah | L10: 3000
A11: Tugipost | B11: Ei | D11: Ei | E11: Betoon | G11: Ei | H11: Betoon | L11: 600 | M11: 5 | N11: =+M11*L11 -> 3000
N12: =+N11+L10 -> 6000
A13: Kogumaksumus EUR | B13: 225726 | D13: 301060 | E13: 350512 | G13: 327149 | H13: 375391
A14: Maksumus m3 kohta | B14: =+B13/B6 -> 74.743709 | D14: =+D13/D6 -> 59.615842 | E14: =+E13/E6 -> 69.408317 | G14: =+G13/G6 -> 59.319855 | H14: =+H13/H6 -> 68.067271 | L14: 800 | M14: 10 | N14: =+M14*L14 -> 8000
A16: Mullatööd | B16: 15541 | D16: 21586 | E16: 21586 | G16: 23612 | H16: 23612 | L16: 800 | N16: =+N14+N12 -> 14000 | P16: =+N16*L16 -> 11200000
A17: Aluse ehitus | B17: 40942 | D17: 46313 | E17: 43317 | G17: 47344 | H17: 47344
A18: Ehituskonstruktsioonid | B18: 139781 | D18: 187912 | E18: 240361 | G18: 210944 | H18: 259186
A19: Tehnilised seadmed | B19: 29462 | D19: 45249 | E19: 45249 | G19: 45249 | H19: 45249
D21: EUR/ m3 | G21: EUR/m3
A22: Eestis | B22: 5000 | D22: 33 | E22: =+D22*B22 -> 165000 | G22: =+E22/B22 -> 33 | H22: Pikaajalised
A23: Telkkatus | E23: 60000 | G23: =+E23/B22 -> 12 | H23: Keskpikad
A24: Seadmed | E24: 50000 | G24: =+E24/B22 -> 10 | H24: Lühiajalised
E25: =SUM(E22:E24) -> 275000
D26: EUR/m3 | E26: =+E25/B22 -> 55 | G26: =SUM(G22:G25) -> 55 | H26: Kokku
A29: Hoidlat vaja
A30: Hoidla maht 8 kuud | B30: 4.2 | D30: m3/Emise koht
A31: Hoidla maht 8 kuud | B31: 0.7 | D31: m3/VP koht | G31: 6.4 | H31: =+B31/G31 -> 0.109375
A32: Hoidla maht 8 kuud | B32: 2 | D32: m3/nuumiku koht | G32: 3.2 | H32: =+B32/G32 -> 0.625

Sheet KTBL
B1: Tavapidamine Emised | S1: Emised, suurendatud pinnad. Seemendus 5,5 m2 , poegimine 6,5 m2
B2: Projekt | C2: S 13002 | E2: S 13003 | G2: S 14002 | I2: S 14003 | K2: S 14004 | M2: S 14005 | S2: Projekt | T2: S 015 056 | V2: S 016 057 | X2: S 016 058
B3: Loomakohti ( Lk ) | C3: 802 | E3: 1320 | G3: 830 | I3: 1360 | K3: 1372 | M3: 1304 | S3: Loomakohti ( Lk ) | T3: 1362 | V3: 1333 | X3: 1341
B4: Emiste arv (Ea) | C4: 720 | E4: 1120 | G4: 735 | I4: 1176 | K4: 1176 | M4: 1176 | O4: =AVERAGE(C4:M4) -> 1017.1667 | S4: Emiste arv (Ea) | T4: 1176 | V4: 1176 | X4: 1176 | Z4: =AVERAGE(T4:X4) -> 1176
B5: Emisekohad | C5: 756 | E5: 1246 | G5: 784 | I5: 1286 | K5: 1298 | M5: 1230 | S5: Emisekohad | T5: 1240 | V5: 1240 | X5: 1248
B6: Reservkohad | C6: 6 | E6: 10 | G6: 6 | I6: 10 | K6: 10 | M6: 10 | S6: Reservkohad | T6: 62 | V6: 26 | X6: 26
B7: Nooremise kohad | C7: 38 | E7: 60 | G7: 38 | I7: 60 | K7: 60 | M7: 60 | S7: Nooremise kohad | T7: 54 | V7: 54 | X7: 54
B8: Kuldikohad | C8: 2 | E8: 4 | G8: 2 | I8: 4 | K8: 4 | M8: 4 | S8: Kuldikohad | T8: 6 | V8: 13 | X8: 13
C10: €/Ea | E10: €/Ea | G10: €/Ea | I10: €/Ea | K10: €/Ea | M10: €/Ea | T10: €/Ea | V10: €/Ea | X10: €/Ea
B11: Loom | S11: Loom
B12: Pikaajalised investeeringud | C12: 1253.0444 | E12: 1304.2 | G12: 1267.5565 | I12: 1300.5544 | K12: 1365.0357 | M12: 1280.0255 | O12: =AVERAGE(C12:M12) -> 1295.0694 | S12: Pikaajalised investeeringud | T12: 2796.9056 | V12: 2785.0383 | X12: 3184.7151 | Z12: =AVERAGE(T12:X12) -> 2922.2197
B13: Keskpikad investeeringud | C13: 725.81111 | E13: 730.28929 | G13: 741.2517 | I13: 739.54592 | K13: 723.15901 | M13: 701.43622 | O13: =AVERAGE(C13:M13) -> 726.91554 | S13: Keskpikad investeeringud | T13: 622.68537 | V13: 651.53231 | X13: 656.45408 | Z13: =AVERAGE(T13:X13) -> 643.55726
B14: Lühiajalised investeeringud | C14: 489.32639 | E14: 521.93393 | G14: 503.9551 | I14: 525.6216 | K14: 331.48044 | M14: 369.41582 | O14: =AVERAGE(C14:M14) -> 456.95555 | S14: Lühiajalised investeeringud | T14: 1227.7628 | V14: 1077.148 | X14: 1036.0944 | Z14: =AVERAGE(T14:X14) -> 1113.6684
B15: Summa loom | C15: 2468.1819 | E15: 2556.4232 | G15: 2512.7619 | I15: 2565.7219 | K15: 2419.6752 | M15: 2350.8784 | O15: =AVERAGE(C15:M15) -> 2478.9404 | S15: Summa loom | T15: 4647.3529 | V15: 4513.7185 | X15: 4877.2645 | Z15: =AVERAGE(T15:X15) -> 4679.4453
B16: Söötmine | E16: 0 | S16: Söötmine
B17: Pikaajalised investeeringud | C17: 139.86528 | E17: 167.13571 | G17: 145.64762 | I17: 167.07993 | K17: 112.70153 | M17: 147.41922 | O17: =AVERAGE(C17:M17) -> 146.64155 | S17: Pikaajalised investeeringud | T17: 244.73469 | V17: 165.45493 | X17: 185.83503 | Z17: =AVERAGE(T17:X17) -> 198.67489
B18: Keskpikad investeeringud | C18: 159.40417 | E18: 169.00893 | G18: 161.0449 | I18: 166.53827 | K18: 113.17177 | M18: 147.28316 | O18: =AVERAGE(C18:M18) -> 152.74187 | S18: Keskpikad investeeringud | T18: 27.683673 | V18: 20.432823 | X18: 20.29932 | Z18: =AVERAGE(T18:X18) -> 22.805272
B19: Lühiajalised investeeringud | C19: 248.65 | E19: 258.71875 | G19: 253.11156 | I19: 257.05697 | K19: 270.15136 | M19: 173.43793 | O19: =AVERAGE(C19:M19) -> 243.5211 | S19: Lühiajalised investeeringud | T19: 496.18282 | V19: 455.72364 | X19: 461.90136 | Z19: =AVERAGE(T19:X19) -> 471.26927
B20: Summa söötmine | C20: 547.91944 | E20: 594.86339 | G20: 559.80272 | I20: 590.67432 | K20: 496.02466 | M20: 468.13946 | O20: =AVERAGE(C20:M20) -> 542.904 | S20: Summa söötmine | T20: 768.60119 | V20: 641.61224 | X20: 668.03571 | Z20: =AVERAGE(T20:X20) -> 692.74972
B21: Haldus | E21: 0 | S21: Haldus
B22: Pikaajalised investeeringud | C22: 502.00972 | E22: 436.94286 | G22: 499.59864 | I22: 460.70578 | K22: 360.07738 | M22: 406.77551 | O22: =AVERAGE(C22:M22) -> 444.35165 | S22: Pikaajalised investeeringud | T22: 971.86054 | V22: 728.69473 | X22: 790.60714 | Z22: =AVERAGE(T22:X22) -> 830.38747
B23: Keskpikad investeeringud | C23: 98.233333 | E23: 80.509821 | G23: 97.827211 | I23: 84.109694 | K23: 62.921769 | M23: 70.17517 | O23: =AVERAGE(C23:M23) -> 82.296166 | S23: Keskpikad investeeringud | T23: 122.23639 | V23: 102.39541 | X23: 99.004252 | Z23: =AVERAGE(T23:X23) -> 107.87868
B24: Lühiajalised investeeringud | C24: 0 | E24: 0 | G24: 0 | I24: 0 | K24: 0 | M24: 0 | O24: =AVERAGE(C24:M24) -> 0 | S24: Lühiajalised investeeringud | T24: 59.857993 | V24: 59.847789 | X24: 59.846088 | Z24: =AVERAGE(T24:X24) -> 59.850624
B25: Summa haldus | C25: 600.24306 | E25: 517.45268 | G25: 597.42585 | I25: 544.81463 | K25: 423 | M25: 476.95068 | O25: =AVERAGE(C25:M25) -> 526.64782 | S25: Summa haldus | T25: 1153.9549 | V25: 890.93878 | X25: 949.45748 | Z25: =AVERAGE(T25:X25) -> 998.11706
B26: Kokku | C26: 3616.3444 | E26: 3668.7393 | G26: 3669.9905 | I26: 3701.2109 | K26: 3338.6998 | M26: 3295.9685 | O26: =AVERAGE(C26:M26) -> 3548.4922 | S26: Kokku | T26: 6569.909 | V26: 6046.2696 | X26: 6494.7577 | Z26: =AVERAGE(T26:X26) -> 6370.3121
B28: Kokku EUR Farm | C28: =+C26*C4 -> 2603768 | E28: =+E26*E4 -> 4108988 | G28: =+G26*G4 -> 2697443 | I28: =+I26*I4 -> 4352624 | K28: =+K26*K4 -> 3926311 | M28: =+M26*M4 -> 3876059 | S28: Kokku EUR Farm | T28: =+T26*T4 -> 7726213 | V28: =+V26*V4 -> 7110413 | X28: =+X26*X4 -> 7637835
B30: Kokku | S30: Kokku
B31: Pikaajalised investeeringud | C31: =+C12+C17+C22 -> 1894.9194 | E31: =+E12+E17+E22 -> 1908.2786 | G31: =+G12+G17+G22 -> 1912.8027 | I31: =+I12+I17+I22 -> 1928.3401 | K31: =+K12+K17+K22 -> 1837.8146 | M31: =+M12+M17+M22 -> 1834.2202 | O31: =+O12+O17+O22 -> 1886.0626 | S31: Pikaajalised investeeringud | T31: =+T12+T17+T22 -> 4013.5009 | V31: =+V12+V17+V22 -> 3679.1879 | X31: =+X12+X17+X22 -> 4161.1573 | Z31: =+Z12+Z17+Z22 -> 3951.282
B32: Keskpikad investeeringud | C32: =+C13+C18+C23 -> 983.44861 | E32: =+E13+E18+E23 -> 979.80804 | G32: =+G13+G18+G23 -> 1000.1238 | I32: =+I13+I18+I23 -> 990.19388 | K32: =+K13+K18+K23 -> 899.25255 | M32: =+M13+M18+M23 -> 918.89456 | O32: =+O13+O18+O23 -> 961.95357 | S32: Keskpikad investeeringud | T32: =+T13+T18+T23 -> 772.60544 | V32: =+V13+V18+V23 -> 774.36054 | X32: =+X13+X18+X23 -> 775.75765 | Z32: =+Z13+Z18+Z23 -> 774.24121
B33: Lühiajalised investeeringud | C33: =+C14+C19+C24 -> 737.97639 | E33: =+E14+E19+E24 -> 780.65268 | G33: =+G14+G19+G24 -> 757.06667 | I33: =+I14+I19+I24 -> 782.67857 | K33: =+K14+K19+K24 -> 601.6318 | M33: =+M14+M19+M24 -> 542.85374 | O33: =+O14+O19+O24 -> 700.47664 | S33: Lühiajalised investeeringud | T33: =+T14+T19+T24 -> 1783.8036 | V33: =+V14+V19+V24 -> 1592.7194 | X33: =+X14+X19+X24 -> 1557.8418 | Z33: =+Z14+Z19+Z24 -> 1644.7883
B34: Kokku €/Emise kohta | C34: =SUM(C31:C33) -> 3616.3444 | E34: =SUM(E31:E33) -> 3668.7393 | G34: =SUM(G31:G33) -> 3669.9932 | I34: =SUM(I31:I33) -> 3701.2126 | K34: =SUM(K31:K33) -> 3338.699 | M34: =SUM(M31:M33) -> 3295.9685 | O34: =SUM(O31:O33) -> 3548.4928 | S34: Kokku €/Emise kohta | T34: =SUM(T31:T33) -> 6569.9099 | V34: =SUM(V31:V33) -> 6046.2679 | X34: =SUM(X31:X33) -> 6494.7568 | Z34: =SUM(Z31:Z33) -> 6370.3115
B37: KTBL keskmine | F37: =+O34 -> 3548.4928 | G37: €/põhiemis | S37: KTBL keskmine | W37: =+Z34 -> 6370.3115 | X37: €/põhiemis
B39: Eeldus, et Eestis on maksumus | F39: 0.9 | G39: KTBL hinnast | S39: Eeldus, et Eestis on maksumus | W39: 0.9 | X39: KTBL hinnast
B41: Pikaajalised investeeringud 30 a | F41: =ROUNDUP(O31*$F$39,0) -> 1698 | G41: €/põhiemis | S41: Pikaajalised investeeringud 30 a | W41: =ROUNDUP(Z31*$W$39,0) -> 3557 | X41: €/põhiemis
B42: Keskpikad investeeringud 15 a | F42: =ROUNDUP(O32*$F$39,0) -> 866 | G42: €/põhiemis | S42: Keskpikad investeeringud 15 a | W42: =ROUNDUP(Z32*$W$39,0) -> 697 | X42: €/põhiemis
B43: Lühiajalised investeeringud 10 a | F43: =ROUNDUP(O33*$F$39,0) -> 631 | G43: €/põhiemis | S43: Lühiajalised investeeringud 10 a | W43: =ROUNDUP(Z33*$W$39,0) -> 1481 | X43: €/põhiemis
B44: Kokku | F44: =SUM(F41:F43) -> 3195 | G44: €/põhiemis | S44: Kokku | W44: =SUM(W41:W43) -> 5735 | X44: €/põhiemis
B50: Võõrdepõrsad
B51: Projekt | C51: FA 106 | E51: FA 111 | G51: FA 109 | I51: FA 110 | K51: FA 107
B52: Loomakohti ( Lk ) | C52: 2380 | E52: 1890 | G52: 6480 | I52: 2624 | K52: 4620
...

Sheet Loomakohad
A4: Elanikke | B4: kg/aastas | C4: Kokku kg/aastas
A5: 1320000 | B5: 40 | C5: =+B5*A5 -> 52800000 | H5: Lõpp kg | I5: Tapasaagis | J5: Rümp kg
H6: 115 | I6: 0.72 | J6: =+H6*I6 -> 82.8
A7: Rümba kaal | B7: 82 | C7: kg
A8: Toota nuumikuid | B8: =+C5/B7 -> 643902.44 | C8: Tk
A10: Tootmisnäitajad
A11: 2024 aasta seis
A12: Müüdud nuumikuid | B12: 27 | C12: Emise kohta aastas
A13: Võõrutatud põrsaid | B13: 28 | C13: emise kohta aastas
A15: 2034 aasta eesmärk
A16: Müüdud nuumikuid | B16: 32 | C16: Emise kohta aastas | H16: 0.02 | I16: =+B16/(1-H16) -> 32.653061
H17: 0.03 | I17: =+I16/(1-H17) -> 33.66295
A18: Isevarustatuse tas e 100 %
A19: Vaja emiseid | B19: =ROUNDUP(B8/B16,-2) -> 20200 | C19: Tk | G19: Nooremised | H19: 0.4 | I19: =+H19*B19 -> 8080 | J19: =+I19/B19 -> 0.4
A21: Isevarustatuse tase | B21: 1 | C21: 1.1 | D21: 0.7 | E21: 0.4 | I21: =+J19+I17 -> 34.06295 | J21: Kokku võõrutatud emisel
A22: Vaja emiseid | B22: =ROUNDUP(B19*B21,-2) -> 20200 | C22: =ROUNDUP(B19*C21,-2) -> 22300 | D22: =D21*B22/B21 -> 14140 | E22: =E21*B22/B21 -> 8080 | F22: Tk
A23: Võimalik toota liha | B23: =B22*Emisetoodang!K34 -> 52872288 | C23: =C22*Emisetoodang!$K$34 -> 58368912 | D23: =D22*Emisetoodang!$K$34 -> 37010602 | E23: =E22*Emisetoodang!$K$34 -> 21148915
A24: Teravilja lisavajadus aastas nuumikutele, t | B24: =($B$23-B23)*2.7/1000 -> 0 | C24: =(C23-B$23)*2.7/1000 -> 14840.885 | D24: =($B$23-D23)*2.7/1000 -> 42826.553 | E24: =($B$23-E23)*2.7/1000 -> 85653.107
A26: Nuumakohtade arvutus
A27: Hukkumine nuumas | D27: 0.02
A28: Läheb nuuma | D28: =B16*(1+D27) -> 32.64 | E28: tk/aastas
A29: Vaja nuuma kohti ( 3,2 tsüklit aastas/ koht) | D29: =ROUNDUP(D28*B22/3.2,-3) -> 207000 | E29: Tk | H29: 3.2 | I29: =+D29*H29 -> 662400 | J29: =+I29*(1-D27) -> 649152 | M29: =+D29/B22 -> 10.247525
A31: Võõrdepõrsa kohtade arvutus
A32: Hukkumine VP | D32: 0.03
A33: Võõrutatud | D33: =+D28*(1+D32) -> 33.6192 | E33: tk/aastas
A34: Vaja VP kohti ( 6,4 tsüklit aastas/ koht) | D34: =ROUNDUP(B19*D33/6.4,-3) -> 107000 | E34: Tk | H34: 6.4 | I34: =+D34*H34 -> 684800 | J34: =I34*(1-D32) -> 664256 | M34: =+D34/B22 -> 5.2970297
A36: Kogu kari | D36: =+D34+D29+B22 -> 334200 | E36: Looma
A39: 115 | B39: kg | C39: 100 | D39: 5
A40: 82 | B40: kg | C40: =A40*C39/A39 -> 71.304348 | D40: %

Sheet Emisetoodang
B1: Aasta | C1: Psk/emis | D1: Võõrutatud p | E1: Suremus % | F1: Rümbamass, kg | G1: Nuumikuid psk | H1: Nuumikuid aastas emiselt | I1: Toodang, kg | J1: Nuumikuid aastas emiselt, prognoos | K1: Toodangu prognoos, kg
B2: 2001 | C2: 1.94 | D2: 8.6 | E2: 5 | F2: 82 | G2: =D2-D2*E2/100 -> 8.17 | H2: =G2*C2 -> 15.8498 | I2: =F2*H2 -> 1299.6836
B3: 2003 | C3: 2 | D3: 9 | E3: 5 | F3: 82 | G3: =D3-D3*E3/100 -> 8.55 | H3: =G3*C3 -> 17.1 | I3: =F3*H3 -> 1402.2
B4: 2004 | C4: 2.2 | D4: 9.2 | E4: 5 | F4: 82 | G4: =D4-D4*E4/100 -> 8.74 | H4: =G4*C4 -> 19.228 | I4: =F4*H4 -> 1576.696
B5: 2005 | C5: 2.1 | D5: 9.4 | E5: 5 | F5: 82 | G5: =D5-D5*E5/100 -> 8.93 | H5: =G5*C5 -> 18.753 | I5: =F5*H5 -> 1537.746
B6: 2006 | C6: 2.1 | D6: 9.3 | E6: 5 | F6: 82 | G6: =D6-D6*E6/100 -> 8.835 | H6: =G6*C6 -> 18.5535 | I6: =F6*H6 -> 1521.387
B7: 2007 | C7: 2.1 | D7: 9.3 | E7: 5 | F7: 82 | G7: =D7-D7*E7/100 -> 8.835 | H7: =G7*C7 -> 18.5535 | I7: =F7*H7 -> 1521.387
B8: 2008 | C8: 2.1 | D8: 9.4 | E8: 5 | F8: 82 | G8: =D8-D8*E8/100 -> 8.93 | H8: =G8*C8 -> 18.753 | I8: =F8*H8 -> 1537.746
B9: 2009 | C9: 2.1 | D9: 9.5 | E9: 5 | F9: 82 | G9: =D9-D9*E9/100 -> 9.025 | H9: =G9*C9 -> 18.9525 | I9: =F9*H9 -> 1554.105
B10: 2010 | C10: 2.1 | D10: 9.7 | E10: 5 | F10: 82 | G10: =D10-D10*E10/100 -> 9.215 | H10: =G10*C10 -> 19.3515 | I10: =F10*H10 -> 1586.823
B11: 2011 | C11: 2.2 | D11: 10 | E11: 5 | F11: 82 | G11: =D11-D11*E11/100 -> 9.5 | H11: =G11*C11 -> 20.9 | I11: =F11*H11 -> 1713.8
B12: 2012 | C12: 2.2 | D12: 10.2 | E12: 5 | F12: 82 | G12: =D12-D12*E12/100 -> 9.69 | H12: =G12*C12 -> 21.318 | I12: =F12*H12 -> 1748.076
B13: 2013 | C13: 2.3 | D13: 10.3 | E13: 5 | F13: 82 | G13: =D13-D13*E13/100 -> 9.785 | H13: =G13*C13 -> 22.5055 | I13: =F13*H13 -> 1845.451
B14: 2014 | C14: 2.2 | D14: 10.4 | E14: 5 | F14: 82 | G14: =D14-D14*E14/100 -> 9.88 | H14: =23.3-23.3*E14/100 -> 22.135 | I14: =F14*H14 -> 1815.07
B15: 2015 | C15: 2.3 | D15: 10.6 | E15: 5 | F15: 82 | G15: =D15-D15*E15/100 -> 10.07 | H15: =24.7-24.7*E15/100 -> 23.465 | I15: =F15*H15 -> 1924.13
B16: 2016 | C16: 2.2 | D16: 10.5 | E16: 5 | F16: 82 | G16: =D16-D16*E16/100 -> 9.975 | H16: =22.9-22.9*E16/100 -> 21.755 | I16: =F16*H16 -> 1783.91
B17: 2017 | C17: 2.2 | D17: 10.6 | E17: 5 | F17: 82 | G17: =D17-D17*E17/100 -> 10.07 | H17: =G17*C17 -> 22.154 | I17: =F17*H17 -> 1816.628
B18: 2018 | C18: 2.2 | D18: 10.8 | E18: 5 | F18: 82 | G18: =D18-D18*E18/100 -> 10.26 | H18: =G18*C18 -> 22.572 | I18: =F18*H18 -> 1850.904
B19: 2019 | C19: 2.2 | D19: 11.3 | E19: 5 | F19: 82 | G19: =D19-D19*E19/100 -> 10.735 | H19: =G19*C19 -> 23.617 | I19: =F19*H19 -> 1936.594
B20: 2020 | C20: 2.3 | D20: 11.6 | E20: 5 | F20: 82 | G20: =D20-D20*E20/100 -> 11.02 | H20: =G20*C20 -> 25.346 | I20: =F20*H20 -> 2078.372
B21: 2021 | C21: 2.3 | D21: 11.7 | E21: 5 | F21: 82 | G21: =D21-D21*E21/100 -> 11.115 | H21: =G21*C21 -> 25.5645 | I21: =F21*H21 -> 2096.289
B22: 2022 | C22: 2.3 | D22: 11.8 | E22: 5 | F22: 82 | G22: =D22-D22*E22/100 -> 11.21 | H22: =G22*C22 -> 25.783 | I22: =F22*H22 -> 2114.206
B23: 2023 | C23: 2.3 | D23: 11.9 | E23: 5 | F23: 82 | G23: =D23-D23*E23/100 -> 11.305 | H23: =G23*C23 -> 26.0015 | I23: =F23*H23 -> 2132.123
B24: 2024 | C24: 2.3 | D24: 12.2 | E24: 5 | F24: 82 | G24: =D24-D24*E24/100 -> 11.59 | H24: =G24*C24 -> 26.657 | I24: =F24*H24 -> 2185.874
B25: 2025 | C25: 2.3 | D25: =D24+0.2 -> 12.4 | E25: 5 | F25: 82 | G25: =D25-D25*E25/100 -> 11.78 | J25: =G25*C25 -> 27.094 | K25: =F25*J25 -> 2221.708
B26: 2026 | C26: 2.3 | D26: =D25+0.2 -> 12.6 | E26: 5 | F26: 82 | G26: =D26-D26*E26/100 -> 11.97 | J26: =G26*C26 -> 27.531 | K26: =F26*J26 -> 2257.542
B27: 2027 | C27: 2.3 | D27: =D26+0.2 -> 12.8 | E27: 5 | F27: 82 | G27: =D27-D27*E27/100 -> 12.16 | J27: =G27*C27 -> 27.968 | K27: =F27*J27 -> 2293.376
B28: 2028 | C28: 2.3 | D28: =D27+0.2 -> 13 | E28: 5 | F28: 82 | G28: =D28-D28*E28/100 -> 12.35 | J28: =G28*C28 -> 28.405 | K28: =F28*J28 -> 2329.21
B29: 2029 | C29: 2.3 | D29: =D28+0.2 -> 13.2 | E29: 5 | F29: 82 | G29: =D29-D29*E29/100 -> 12.54 | J29: =G29*C29 -> 28.842 | K29: =F29*J29 -> 2365.044
B30: 2030 | C30: 2.3 | D30: =D29+0.2 -> 13.4 | E30: 5 | F30: 82 | G30: =D30-D30*E30/100 -> 12.73 | J30: =G30*C30 -> 29.279 | K30: =F30*J30 -> 2400.878
B31: 2031 | C31: 2.4 | D31: =D30+0.15 -> 13.55 | E31: 5 | F31: 82 | G31: =D31-D31*E31/100 -> 12.8725 | J31: =G31*C31 -> 30.894 | K31: =F31*J31 -> 2533.308
B32: 2032 | C32: 2.4 | D32: =D31+0.15 -> 13.7 | E32: 5 | F32: 82 | G32: =D32-D32*E32/100 -> 13.015 | J32: =G32*C32 -> 31.236 | K32: =F32*J32 -> 2561.352
B33: 2033 | C33: 2.4 | D33: =D32+0.15 -> 13.85 | E33: 5 | F33: 82 | G33: =D33-D33*E33/100 -> 13.1575 | J33: =G33*C33 -> 31.578 | K33: =F33*J33 -> 2589.396
B34: 2034 | C34: 2.4 | D34: =D33+0.15 -> 14 | E34: 5 | F34: 82 | G34: =D34-D34*E34/100 -> 13.3 | J34: =G34*C34 -> 31.92 | K34: =F34*J34 -> 2617.44

Sheet INVEST
A2: Seakasvatuse tootmishoonete maksumus kui tavapidamisel. Tänased heaolu nõuded.
A4: Loomakasvatushooned
A6: Loomagrupi nimetus | B6: Tk | D6: €/koht | F6: Kokku €
A7: Emiseid | B7: =+Loomakohad!B22 -> 20200 | D7: =+KTBL!F44 -> 3195 | F7: =+D7*B7 -> 64539000
A8: Võõrdepõrsad | B8: =+Loomakohad!D34 -> 107000 | D8: =+KTBL!F89 -> 481 | F8: =+D8*B8 -> 51467000
A9: Nuumikud | B9: =+Loomakohad!D29 -> 207000 | D9: =+KTBL!F132 -> 778 | F9: =+D9*B9 -> 161046000
A11: Kokku loomakasvatushoonete maksumus EUR | F11: =SUM(F7:F10) -> 277052000 | K11: 12500000
K12: 2500
K13: =+K11/K12 -> 5000
A14: Sõnnikuhoidlad
A15: Loomagrupi nimetus | B15: m3/koht | C15: m3 | D15: €/m3 | F15: Kokku €
A16: Emised | B16: =+HOIDLAD!B30 -> 4.2 | C16: =+B16*B7 -> 84840 | D16: 55 | F16: =+D16*C16 -> 4666200
A17: Võõrdepõrsad | B17: =+HOIDLAD!B31 -> 0.7 | C17: =+B17*B8 -> 74900 | D17: 55 | F17: =+D17*C17 -> 4119500
A18: Nuumikud | B18: =+HOIDLAD!B32 -> 2 | C18: =+B18*B9 -> 414000 | D18: 55 | F18: =+D18*C18 -> 22770000
A20: Kokku sõnnikuhoidlate maksumus EUR | F20: =SUM(F16:F19) -> 31555700
A22: Maksumus kokku EUR | F22: =+F20+F11 -> 308607700
A25: Seakasvatuse tootmishoonete maksumus kui emised puurivabal pidamisel.
A26: Poegimine 6,5 m2, seemendus 5,5 m2
A28: Loomakasvatushooned
A30: Loomagrupi nimetus | B30: Tk | D30: €/koht | F30: Kokku €
A31: Emiseid | B31: =+Loomakohad!B22 -> 20200 | D31: =+KTBL!W44 -> 5735 | F31: =+D31*B31 -> 115847000
A32: Võõrdepõrsad | B32: =+Loomakohad!D34 -> 107000 | D32: =+KTBL!F89 -> 481 | F32: =+D32*B32 -> 51467000
A33: Nuumikud | B33: =+Loomakohad!D29 -> 207000 | D33: =+KTBL!F132 -> 778 | F33: =+D33*B33 -> 161046000
A35: Kokku loomakasvatushoonete maksumus EUR | F35: =SUM(F31:F34) -> 328360000
A38: Sõnnikuhoidlad
A39: Loomagrupi nimetus | B39: m3/koht | C39: m3 | D39: €/m3 | F39: Kokku €
A40: Emised | B40: =+HOIDLAD!B30 -> 4.2 | C40: =+B40*B31 -> 84840 | D40: 55 | F40: =+D40*C40 -> 4666200
A41: Võõrdepõrsad | B41: =+HOIDLAD!B31 -> 0.7 | C41: =+B41*B32 -> 74900 | D41: 55 | F41: =+D41*C41 -> 4119500
A42: Nuumikud | B42: =+HOIDLAD!B32 -> 2 | C42: =+B42*B33 -> 414000 | D42: 55 | F42: =+D42*C42 -> 22770000
C43: =SUM(C40:C42) -> 573740
A44: Kokku sõnnikuhoidlate maksumus EUR | F44: =SUM(F40:F43) -> 31555700
A46: Maksumus kokku EUR | F46: =+F44+F35 -> 359915700
A48: Kui emiste puurivabal pidamisel, siis maksumus kokku on suurem EUR | F48: =+F46-F22 -> 51308000

Sheet VAJADUS
A3: Seakasvatuse investeeringuvajadus tootmishoonetesse kui tavapidamisel.
A4: Tänased heaolu nõuded.
A6: Emiste arv | B6: =+Loomakohad!B19 -> 20200 | C6: Tk
H7: Amortisatsioon
A8: Investeeringu liik | B8: €/koht | C8: Kokku € | D8: Säilinud | E8: Vajadus € | H8: Aastat | I8: % | J8: EUR/aastas
A9: Pikaajalised investeeringud 30 a | B9: =+KTBL!F41 -> 1698 | C9: =+B9*$B$6 -> 34299600 | D9: 0.3 | E9: =+C9*(1-D9) -> 24009720 | H9: 30 | I9: =1/H9 -> 0.033333333 | J9: =+I9*C9 -> 1143320
A10: Keskpikad investeeringud 15 a | B10: =+KTBL!F42 -> 866 | C10: =+B10*$B$6 -> 17493200 | D10: 0.1 | E10: =+C10*(1-D10) -> 15743880 | H10: 15 | I10: =1/H10 -> 0.066666667 | J10: =+I10*C10 -> 1166213.3
A11: Lühiajalised investeeringud 10 a | B11: =+KTBL!F43 -> 631 | C11: =+B11*$B$6 -> 12746200 | D11: 0.05 | E11: =+C11*(1-D11) -> 12108890 | H11: 10 | I11: =1/H11 -> 0.1 | J11: =+I11*C11 -> 1274620
A12: Kokku | B12: =SUM(B9:B11) -> 3195 | C12: =SUM(C9:C11) -> 64539000 | E12: =SUM(E9:E11) -> 51862490
A14: Võõrdepõrsaste arv | B14: =+Loomakohad!D34 -> 107000 | C14: Tk
A16: Investeeringu liik | B16: €/koht | C16: Kokku € | D16: Säilinud | E16: Vajadus €
A17: Pikaajalised investeeringud 30 a | B17: =+KTBL!F86 -> 295 | C17: =+B17*$B$14 -> 31565000 | D17: 0.3 | E17: =+C17*(1-D17) -> 22095500 | H17: 30 | I17: =1/H17 -> 0.033333333 | J17: =+I17*C17 -> 1052166.7
A18: Keskpikad investeeringud 15 a | B18: =+KTBL!F87 -> 101 | C18: =+B18*$B$14 -> 10807000 | D18: 0.2 | E18: =+C18*(1-D18) -> 8645600 | H18: 15 | I18: =1/H18 -> 0.066666667 | J18: =+I18*C18 -> 720466.67
A19: Lühiajalised investeeringud 10 a | B19: =+KTBL!F88 -> 85 | C19: =+B19*$B$14 -> 9095000 | D19: 0.05 | E19: =+C19*(1-D19) -> 8640250 | H19: 10 | I19: =1/H19 -> 0.1 | J19: =+I19*C19 -> 909500
A20: Kokku | B20: =SUM(B17:B19) -> 481 | C20: =SUM(C17:C19) -> 51467000 | E20: =SUM(E17:E19) -> 39381350 | M20: =+C20+C12 -> 116006000 | N20: =+M20/B6 -> 5742.8713 | O20: Emis koos VP-ga/koht
A22: Nuumikute arv | B22: =+Loomakohad!D29 -> 207000 | C22: Tk
A24: Investeeringu liik | B24: €/koht | C24: Kokku € | D24: Säilinud | E24: Vajadus €
A25: Pikaajalised investeeringud 30 a | B25: =+KTBL!F129 -> 477 | C25: =+B25*$B$22 -> 98739000 | D25: 0.4 | E25: =+C25*(1-D25) -> 59243400 | H25: 30 | I25: =1/H25 -> 0.033333333 | J25: =+I25*C25 -> 3291300
A26: Keskpikad investeeringud 15 a | B26: =+KTBL!F130 -> 212 | C26: =+B26*$B$22 -> 43884000 | D26: 0.3 | E26: =+C26*(1-D26) -> 30718800 | H26: 15 | I26: =1/H26 -> 0.066666667 | J26: =+I26*C26 -> 2925600
A27: Lühiajalised investeeringud 10 a | B27: =+KTBL!F131 -> 89 | C27: =+B27*$B$22 -> 18423000 | D27: 0.1 | E27: =+C27*(1-D27) -> 16580700 | H27: 10 | I27: =1/H27 -> 0.1 | J27: =+I27*C27 -> 1842300
A28: Kokku | B28: =SUM(B25:B27) -> 778 | C28: =SUM(C25:C27) -> 161046000 | E28: =SUM(E25:E27) -> 106542900
A30: Maksumus kokku | B30: EUR | C30: =SUM(C25:C27,C17:C19,C9:C11) -> 277052000 | H30: Kokku | I30: EUR | J30: =SUM(J9:J29) -> 14325487
A31: Vajadus kokku | B31: EUR | E31: =SUM(E25:E27,E17:E19,E9:E11) -> 197786740 | H31: Toodetud | I31: kg | J31: =+Loomakohad!C5 -> 52800000
E32: =+E31/C30 -> 0.71389754 | H32: Kulu | I32: €/kg | J32: =+J30/J31 -> 0.27131604
A35: Sõnnikuhoidlad | B35: =+INVEST!C43 -> 573740 | C35: m3
A37: Investeeringu liik | B37: €/m3 | C37: Kokku € | D37: Säilinud | E37: Vajadus €
A38: Pikaajalised investeeringud 30 a | B38: =+HOIDLAD!G22 -> 33 | C38: =+B38*$B$35 -> 18933420 | D38: 0.5 | E38: =+C38*(1-D38) -> 9466710 | H38: 30 | I38: =1/H38 -> 0.033333333 | J38: =+I38*C38 -> 631114
A39: Keskpikad investeeringud 15 a | B39: =+HOIDLAD!G23 -> 12 | C39: =+B39*$B$35 -> 6884880 | D39: 0.05 | E39: =+C39*(1-D39) -> 6540636 | H39: 15 | I39: =1/H39 -> 0.066666667 | J39: =+I39*C39 -> 458992
A40: Lühiajalised investeeringud 10 a | B40: =+HOIDLAD!G24 -> 10 | C40: =+B40*$B$35 -> 5737400 | D40: 0.1 | E40: =+C40*(1-D40) -> 5163660 | H40: 10 | I40: =1/H40 -> 0.1 | J40: =+I40*C40 -> 573740
A42: Kokku | B42: =SUM(B38:B40) -> 55 | C42: =SUM(C38:C40) -> 31555700 | E42: =SUM(E38:E40) -> 21171006 | H42: Kokku | I42: EUR | J42: =SUM(J38:J41) -> 1663846
E43: =+E42/C42 -> 0.67090909 | H43: Toodetud | I43: kg | J43: =+J31 -> 52800000
H44: Kulu | I44: €/kg | J44: =+J42/J43 -> 0.031512235
A45: Kokku investeeringuvajadus | B45: EUR | E45: =+E42+E31 -> 218957746 | M45: Omafinantseering | O45: 0.5 | Q45: =+O45*E45 -> 109478873
M46: Võõrkapital | O46: =1-O45 -> 0.5 | Q46: =+O46*E45 -> 109478873
M47: Intress | O47: 0.035 | Q47: =+Q46*O47 -> 3831760.6 | R47: =+Q47/J43 -> 0.072571223 | S47: €/kg
A49: Seakasvatuse investeeringuvajadus tootmishoonetesse kui emised
A50: puurivabal pidamisel. Poegimine 6,5 m2, seemendus 5,5 m2
A52: Emiste arv | B52: =+B6 -> 20200 | C52: Tk
H53: Amortisatsioon
A54: Investeeringu liik | B54: €/koht | C54: Kokku € | D54: Säilinud | E54: Vajadus € | H54: Aastat | I54: % | J54: EUR/aastas
...
